BEGIN:VCALENDAR
VERSION:2.0
PRODID:-//DSC Intranet - ECPv6.15.20//NONSGML v1.0//EN
CALSCALE:GREGORIAN
METHOD:PUBLISH
X-WR-CALNAME:DSC Intranet
X-ORIGINAL-URL:https://intranet.dsc.cl/comunidad
X-WR-CALDESC:Eventos para DSC Intranet
REFRESH-INTERVAL;VALUE=DURATION:PT1H
X-Robots-Tag:noindex
X-PUBLISHED-TTL:PT1H
BEGIN:VTIMEZONE
TZID:America/Santiago
BEGIN:STANDARD
TZOFFSETFROM:-0300
TZOFFSETTO:-0400
TZNAME:-04
DTSTART:20250406T030000
END:STANDARD
BEGIN:DAYLIGHT
TZOFFSETFROM:-0400
TZOFFSETTO:-0300
TZNAME:-03
DTSTART:20250907T040000
END:DAYLIGHT
BEGIN:STANDARD
TZOFFSETFROM:-0300
TZOFFSETTO:-0400
TZNAME:-04
DTSTART:20260405T030000
END:STANDARD
BEGIN:DAYLIGHT
TZOFFSETFROM:-0400
TZOFFSETTO:-0300
TZNAME:-03
DTSTART:20260906T040000
END:DAYLIGHT
BEGIN:STANDARD
TZOFFSETFROM:-0300
TZOFFSETTO:-0400
TZNAME:-04
DTSTART:20270404T030000
END:STANDARD
BEGIN:DAYLIGHT
TZOFFSETFROM:-0400
TZOFFSETTO:-0300
TZNAME:-03
DTSTART:20270905T040000
END:DAYLIGHT
END:VTIMEZONE
BEGIN:VEVENT
DTSTART;VALUE=DATE:20260422
DTEND;VALUE=DATE:20260423
DTSTAMP:20260422T050220
CREATED:20260406T190434Z
LAST-MODIFIED:20260421T222020Z
UID:2646-1776816000-1776902399@intranet.dsc.cl
SUMMARY:Uso de herramientas IA 3° medio (FPER)
DESCRIPTION:
URL:https://intranet.dsc.cl/comunidad/evento/uso-de-herramientas-ia-3-medio-fper/
CATEGORIES:Calendario Interno
END:VEVENT
BEGIN:VEVENT
DTSTART;TZID=America/Santiago:20260422T060000
DTEND;TZID=America/Santiago:20260422T070000
DTSTAMP:20260422T050220
CREATED:20260406T190434Z
LAST-MODIFIED:20260421T222020Z
UID:2642-1776837600-1776841200@intranet.dsc.cl
SUMMARY:Charla preparación Exámenes GIB 4° medio (Formación Personal)
DESCRIPTION:
URL:https://intranet.dsc.cl/comunidad/evento/charla-preparacion-examenes-gib-4-medio-formacion-personal/
CATEGORIES:Calendario Interno
END:VEVENT
BEGIN:VEVENT
DTSTART;TZID=America/Santiago:20260422T090000
DTEND;TZID=America/Santiago:20260422T130000
DTSTAMP:20260422T050220
CREATED:20260406T164429Z
LAST-MODIFIED:20260421T222020Z
UID:2586-1776848400-1776862800@intranet.dsc.cl
SUMMARY:vacunación contra la Influenza
DESCRIPTION:Alumnos de Spielgruppe a Kinder\npor parte del personal del Cesfam San Pedro de la Paz\nmás información: https://www.dsc.cl/wp-content/uploads/2026/03/carta-a-los-padres-y-colegios-INFLUENZA-2026.docx.pdf\nConsultas comunicarse con la enfermera del colegio\,  Natascha Yung\, nyung@dsc.cl\nSi no desea que su hijo reciba la vacuna en el colegio\, deberá completar carta de rechazo adjunta: carta rechazo vacunación CONTRA INFLUENZA 2026 y enviarla al profesor jefe.
URL:https://intranet.dsc.cl/comunidad/evento/vacunacion-contra-la-influenza/
CATEGORIES:Calendario Escolar
END:VEVENT
BEGIN:VEVENT
DTSTART;TZID=America/Santiago:20260422T143000
DTEND;TZID=America/Santiago:20260422T152000
DTSTAMP:20260422T050220
CREATED:20260406T190434Z
LAST-MODIFIED:20260421T222020Z
UID:2644-1776868200-1776871200@intranet.dsc.cl
SUMMARY:prueba de calendario
DESCRIPTION:actividad recreación responsable Alex Meza
URL:https://intranet.dsc.cl/comunidad/evento/prueba-de-calendario/
LOCATION:sala de reuniones 1 DSC
CATEGORIES:Calendario Interno
END:VEVENT
BEGIN:VEVENT
DTSTART;TZID=America/Santiago:20260422T161500
DTEND;TZID=America/Santiago:20260422T173000
DTSTAMP:20260422T050220
CREATED:20260406T190434Z
LAST-MODIFIED:20260421T222020Z
UID:2645-1776874500-1776879000@intranet.dsc.cl
SUMMARY:Entrenamiento Brigada de Emergencia Grupo 2
DESCRIPTION:
URL:https://intranet.dsc.cl/comunidad/evento/entrenamiento-brigada-de-emergencia-grupo-2/
CATEGORIES:Calendario Interno
END:VEVENT
BEGIN:VEVENT
DTSTART;TZID=America/Santiago:20260423T080000
DTEND;TZID=America/Santiago:20260423T135000
DTSTAMP:20260422T050220
CREATED:20260406T190434Z
LAST-MODIFIED:20260421T222020Z
UID:2647-1776931200-1776952200@intranet.dsc.cl
SUMMARY:Actividad del día de libro GS
DESCRIPTION: encargados profesores de la GS y SDC \nEl día 23 de abril los estudiantes se caracterizan como los personajes de los libros que les hayan tocado como nivel. \n\n\n1ra hora: Lectura por parte de un apoderado/a con inscripción en alemán. \n\n\n2da hora: Preparación de la sala y presentación. \n\n\n3ra hora: Elaboración de una reseña del libro para el intercambio. \n\n\n4ta hora: Intercambio de libros en el Hall y lectura del libro. \n\n\n5ta y 6ta hora: Presentación de las salas en alemán y español. \n\n\n7ma hora: Reflexión del día y orden de las salas.
URL:https://intranet.dsc.cl/comunidad/evento/actividad-del-dia-de-libro-gs/
LOCATION:sala de clases
CATEGORIES:Calendario Interno
END:VEVENT
BEGIN:VEVENT
DTSTART;TZID=America/Santiago:20260423T080000
DTEND;TZID=America/Santiago:20260423T135000
DTSTAMP:20260422T050220
CREATED:20260406T190457Z
LAST-MODIFIED:20260421T222020Z
UID:2678-1776931200-1776952200@intranet.dsc.cl
SUMMARY:Actividad del día de libro GS
DESCRIPTION: encargados profesores de la GS y SDC \nEl día 23 de abril los estudiantes se caracterizan como los personajes de los libros que les hayan tocado como nivel. \n\n\n1ra hora: Lectura por parte de un apoderado/a con inscripción en alemán. \n\n\n2da hora: Preparación de la sala y presentación. \n\n\n3ra hora: Elaboración de una reseña del libro para el intercambio. \n\n\n4ta hora: Intercambio de libros en el Hall y lectura del libro. \n\n\n5ta y 6ta hora: Presentación de las salas en alemán y español. \n\n\n7ma hora: Reflexión del día y orden de las salas.
URL:https://intranet.dsc.cl/comunidad/evento/actividad-del-dia-de-libro-gs-2/
LOCATION:sala de clases
CATEGORIES:Calendario Escolar
END:VEVENT
BEGIN:VEVENT
DTSTART;TZID=America/Santiago:20260423T090000
DTEND;TZID=America/Santiago:20260423T130000
DTSTAMP:20260422T050220
CREATED:20260406T164429Z
LAST-MODIFIED:20260421T222020Z
UID:2587-1776934800-1776949200@intranet.dsc.cl
SUMMARY:vacunación contra la Influenza
DESCRIPTION:Alumnos de 1° a 5° Básico\npor parte del personal del Cesfam San Pedro de la Paz\nmás información: https://www.dsc.cl/wp-content/uploads/2026/03/carta-a-los-padres-y-colegios-INFLUENZA-2026.docx.pdf\nConsultas comunicarse con la enfermera del colegio\,  Natascha Yung\, nyung@dsc.cl\nSi no desea que su hijo reciba la vacuna en el colegio\, deberá completar carta de rechazo adjunta: carta rechazo vacunación CONTRA INFLUENZA 2026 y enviarla al profesor jefe.
URL:https://intranet.dsc.cl/comunidad/evento/vacunacion-contra-la-influenza-2/
CATEGORIES:Calendario Escolar
END:VEVENT
BEGIN:VEVENT
DTSTART;TZID=America/Santiago:20260424T080000
DTEND;TZID=America/Santiago:20260424T090000
DTSTAMP:20260422T050220
CREATED:20260406T190434Z
LAST-MODIFIED:20260421T222020Z
UID:2648-1777017600-1777021200@intranet.dsc.cl
SUMMARY:Presentación Planes de Mejora DSC para Microcentros de todos los niveles
DESCRIPTION:
URL:https://intranet.dsc.cl/comunidad/evento/presentacion-planes-de-mejora-dsc-para-microcentros-de-todos-los-niveles/
CATEGORIES:Calendario Interno
END:VEVENT
BEGIN:VEVENT
DTSTART;TZID=America/Santiago:20260424T131000
DTEND;TZID=America/Santiago:20260424T135000
DTSTAMP:20260422T050220
CREATED:20260406T190434Z
LAST-MODIFIED:20260421T222020Z
UID:2650-1777036200-1777038600@intranet.dsc.cl
SUMMARY:Conversatorio ex alumnos GIB 4 MEDIOS
DESCRIPTION:
URL:https://intranet.dsc.cl/comunidad/evento/conversatorio-ex-alumnos-gib-4-medios/
LOCATION:auditorio
CATEGORIES:Calendario Interno
END:VEVENT
BEGIN:VEVENT
DTSTART;VALUE=DATE:20260425
DTEND;VALUE=DATE:20260426
DTSTAMP:20260422T050220
CREATED:20260406T190434Z
LAST-MODIFIED:20260421T222020Z
UID:2651-1777075200-1777161599@intranet.dsc.cl
SUMMARY:Casa abierta postulantes KG (sin niños)
DESCRIPTION:
URL:https://intranet.dsc.cl/comunidad/evento/casa-abierta-postulantes-kg-sin-ninos/
CATEGORIES:Calendario Interno
END:VEVENT
BEGIN:VEVENT
DTSTART;VALUE=DATE:20260427
DTEND;VALUE=DATE:20260428
DTSTAMP:20260422T050220
CREATED:20260406T190435Z
LAST-MODIFIED:20260421T222034Z
UID:2654-1777248000-1777334399@intranet.dsc.cl
SUMMARY:Ensayo oral individual Inglés (3 MEDIOS)
DESCRIPTION:
URL:https://intranet.dsc.cl/comunidad/evento/ensayo-oral-individual-ingles-3-medios/
CATEGORIES:Calendario Interno
END:VEVENT
BEGIN:VEVENT
DTSTART;TZID=America/Santiago:20260427T080000
DTEND;TZID=America/Santiago:20260427T090000
DTSTAMP:20260422T050220
CREATED:20260406T190434Z
LAST-MODIFIED:20260421T222020Z
UID:2653-1777276800-1777280400@intranet.dsc.cl
SUMMARY:4° medio sin clases (preparación Exámenes GIB)
DESCRIPTION:
URL:https://intranet.dsc.cl/comunidad/evento/4-medio-sin-clases-preparacion-examenes-gib/
LOCATION:multisala
CATEGORIES:Calendario Interno
END:VEVENT
BEGIN:VEVENT
DTSTART;VALUE=DATE:20260428
DTEND;VALUE=DATE:20260429
DTSTAMP:20260422T050220
CREATED:20260407T114358Z
LAST-MODIFIED:20260421T222034Z
UID:2715-1777334400-1777420799@intranet.dsc.cl
SUMMARY:Muestra canina carabineros (KG)
DESCRIPTION:
URL:https://intranet.dsc.cl/comunidad/evento/muestra-canina-carabineros-kg/
CATEGORIES:Calendario Interno
END:VEVENT
BEGIN:VEVENT
DTSTART;VALUE=DATE:20260428
DTEND;VALUE=DATE:20260429
DTSTAMP:20260422T050220
CREATED:20260407T114358Z
LAST-MODIFIED:20260421T222034Z
UID:2718-1777334400-1777420799@intranet.dsc.cl
SUMMARY:Ensayo oral individual Inglés (3 MEDIOS)
DESCRIPTION:
URL:https://intranet.dsc.cl/comunidad/evento/ensayo-oral-individual-ingles-3-medios-2/
CATEGORIES:Calendario Interno
END:VEVENT
BEGIN:VEVENT
DTSTART;TZID=America/Santiago:20260428T080000
DTEND;TZID=America/Santiago:20260428T090000
DTSTAMP:20260422T050220
CREATED:20260406T190435Z
LAST-MODIFIED:20260421T222034Z
UID:2656-1777363200-1777366800@intranet.dsc.cl
SUMMARY:4° medio sin clases (preparación Exámenes GIB)
DESCRIPTION:
URL:https://intranet.dsc.cl/comunidad/evento/4-medio-sin-clases-preparacion-examenes-gib-2/
LOCATION:multisala
CATEGORIES:Calendario Interno
END:VEVENT
BEGIN:VEVENT
DTSTART;TZID=America/Santiago:20260428T080000
DTEND;TZID=America/Santiago:20260428T092000
DTSTAMP:20260422T050220
CREATED:20260407T114358Z
LAST-MODIFIED:20260421T222034Z
UID:2717-1777363200-1777368000@intranet.dsc.cl
SUMMARY:Escuela para padres: Prevención de acoso escolar
DESCRIPTION:responsable: Macarena Granfeldt
URL:https://intranet.dsc.cl/comunidad/evento/escuela-para-padres-prevencion-de-acoso-escolar/
LOCATION:auditorio
CATEGORIES:Calendario Interno
END:VEVENT
BEGIN:VEVENT
DTSTART;TZID=America/Santiago:20260428T080000
DTEND;TZID=America/Santiago:20260428T092000
DTSTAMP:20260422T050220
CREATED:20260416T123206Z
LAST-MODIFIED:20260421T222020Z
UID:2791-1777363200-1777368000@intranet.dsc.cl
SUMMARY:Escuela para padres: Prevención de acoso escolar
DESCRIPTION:responsable: Macarena Granfeldt
URL:https://intranet.dsc.cl/comunidad/evento/escuela-para-padres-prevencion-de-acoso-escolar-2/
LOCATION:auditorio
CATEGORIES:Calendario Escolar
END:VEVENT
BEGIN:VEVENT
DTSTART;VALUE=DATE:20260429
DTEND;VALUE=DATE:20260430
DTSTAMP:20260422T050220
CREATED:20260327T131515Z
LAST-MODIFIED:20260421T222020Z
UID:2546-1777420800-1777507199@intranet.dsc.cl
SUMMARY:Día de la Convivencia Escolar
DESCRIPTION:RESPONSABLE: Macarena Granfeldt\, CEFI
URL:https://intranet.dsc.cl/comunidad/evento/dia-de-la-convivencia-escolar/
CATEGORIES:Calendario Escolar
END:VEVENT
BEGIN:VEVENT
DTSTART;VALUE=DATE:20260429
DTEND;VALUE=DATE:20260430
DTSTAMP:20260422T050220
CREATED:20260407T114359Z
LAST-MODIFIED:20260421T222034Z
UID:2728-1777420800-1777507199@intranet.dsc.cl
SUMMARY:Ensayo oral individual Inglés (3 MEDIOS)
DESCRIPTION:
URL:https://intranet.dsc.cl/comunidad/evento/ensayo-oral-individual-ingles-3-medios-4/
CATEGORIES:Calendario Interno
END:VEVENT
BEGIN:VEVENT
DTSTART;VALUE=DATE:20260429
DTEND;VALUE=DATE:20260430
DTSTAMP:20260422T050220
CREATED:20260416T123152Z
LAST-MODIFIED:20260421T222048Z
UID:2782-1777420800-1777507199@intranet.dsc.cl
SUMMARY:Día de la Convivencia Escolar
DESCRIPTION:RESPONSABLE: Macarena Granfeldt\, CEFI
URL:https://intranet.dsc.cl/comunidad/evento/dia-de-la-convivencia-escolar-2/
CATEGORIES:Calendario Interno
END:VEVENT
BEGIN:VEVENT
DTSTART;TZID=America/Santiago:20260429T080000
DTEND;TZID=America/Santiago:20260429T130000
DTSTAMP:20260422T050220
CREATED:20260407T114358Z
LAST-MODIFIED:20260421T222034Z
UID:2720-1777449600-1777467600@intranet.dsc.cl
SUMMARY:Estudiantes con clases hasta las 13:00 h
DESCRIPTION:
URL:https://intranet.dsc.cl/comunidad/evento/estudiantes-con-clases-hasta-las-1300-h/
CATEGORIES:Calendario Interno
END:VEVENT
BEGIN:VEVENT
DTSTART;TZID=America/Santiago:20260429T130000
DTEND;TZID=America/Santiago:20260429T140000
DTSTAMP:20260422T050220
CREATED:20260407T114358Z
LAST-MODIFIED:20260421T222034Z
UID:2719-1777467600-1777471200@intranet.dsc.cl
SUMMARY:Reunión de DFU
DESCRIPTION:
URL:https://intranet.dsc.cl/comunidad/evento/reunion-de-dfu/
CATEGORIES:Calendario Interno
END:VEVENT
BEGIN:VEVENT
DTSTART;TZID=America/Santiago:20260429T140000
DTEND;TZID=America/Santiago:20260429T150000
DTSTAMP:20260422T050220
CREATED:20260407T114359Z
LAST-MODIFIED:20260421T222034Z
UID:2722-1777471200-1777474800@intranet.dsc.cl
SUMMARY:uspensión de ACLE y Musikakademie -4° medio sin clases (preparación Exámenes GIB)
DESCRIPTION:
URL:https://intranet.dsc.cl/comunidad/evento/uspension-de-acle-y-musikakademie-4-medio-sin-clases-preparacion-examenes-gib/
LOCATION:multisala
CATEGORIES:Calendario Interno
END:VEVENT
BEGIN:VEVENT
DTSTART;TZID=America/Santiago:20260429T144500
DTEND;TZID=America/Santiago:20260429T174000
DTSTAMP:20260422T050220
CREATED:20260407T114359Z
LAST-MODIFIED:20260421T222035Z
UID:2721-1777473900-1777484400@intranet.dsc.cl
SUMMARY:Jornada de C.E para funcionarios/ Talleres
DESCRIPTION:responsable: Macarena Granfeldt
URL:https://intranet.dsc.cl/comunidad/evento/jornada-de-c-e-para-funcionarios-talleres/
CATEGORIES:Calendario Interno
END:VEVENT
BEGIN:VEVENT
DTSTART;VALUE=DATE:20260430
DTEND;VALUE=DATE:20260501
DTSTAMP:20260422T050220
CREATED:20260407T114359Z
LAST-MODIFIED:20260421T222050Z
UID:2725-1777507200-1777593599@intranet.dsc.cl
SUMMARY:4° medio sin clases (preparación Exámenes GIB)
DESCRIPTION:
URL:https://intranet.dsc.cl/comunidad/evento/4-medio-sin-clases-preparacion-examenes-gib-3/
LOCATION:multisala
CATEGORIES:Calendario Interno
END:VEVENT
BEGIN:VEVENT
DTSTART;VALUE=DATE:20260430
DTEND;VALUE=DATE:20260501
DTSTAMP:20260422T050220
CREATED:20260407T114359Z
LAST-MODIFIED:20260421T222048Z
UID:2726-1777507200-1777593599@intranet.dsc.cl
SUMMARY:Ensayo oral individual Inglés (3 MEDIOS)
DESCRIPTION:
URL:https://intranet.dsc.cl/comunidad/evento/ensayo-oral-individual-ingles-3-medios-3/
CATEGORIES:Calendario Interno
END:VEVENT
BEGIN:VEVENT
DTSTART;VALUE=DATE:20260430
DTEND;VALUE=DATE:20260501
DTSTAMP:20260422T050220
CREATED:20260407T114359Z
LAST-MODIFIED:20260421T222050Z
UID:2727-1777507200-1777593599@intranet.dsc.cl
SUMMARY:Actividad por el día del trabajador
DESCRIPTION:
URL:https://intranet.dsc.cl/comunidad/evento/actividad-por-el-dia-del-trabajador/
CATEGORIES:Calendario Interno
END:VEVENT
BEGIN:VEVENT
DTSTART;TZID=America/Santiago:20260430T094000
DTEND;TZID=America/Santiago:20260430T104000
DTSTAMP:20260422T050220
CREATED:20260407T114359Z
LAST-MODIFIED:20260421T222049Z
UID:2723-1777542000-1777545600@intranet.dsc.cl
SUMMARY:5K: Obra de teatro “La Carrera” - CEFI
DESCRIPTION:
URL:https://intranet.dsc.cl/comunidad/evento/5k-obra-de-teatro-la-carrera-cefi/
LOCATION:multisala
CATEGORIES:Calendario Interno
END:VEVENT
BEGIN:VEVENT
DTSTART;TZID=America/Santiago:20260430T112500
DTEND;TZID=America/Santiago:20260430T122500
DTSTAMP:20260422T050220
CREATED:20260407T114359Z
LAST-MODIFIED:20260421T222049Z
UID:2724-1777548300-1777551900@intranet.dsc.cl
SUMMARY:6K: Obra de teatro “La Carrera" CEFI
DESCRIPTION:
URL:https://intranet.dsc.cl/comunidad/evento/6k-obra-de-teatro-la-carrera-cefi/
LOCATION:multisala
CATEGORIES:Calendario Interno
END:VEVENT
END:VCALENDAR